BEGIN:VCALENDAR
VERSION:2.0
PRODID:-//time.now/holidays//NONSGML v1.0//EN
BEGIN:VEVENT
UID:eef51958-e8c5-4ec5-b65c-4cfae628863f
DTSTAMP:20260420T190604Z
DTSTART;VALUE=DATE:20261224
SUMMARY:Christmas Eve (Finlande)
END:VEVENT
END:VCALENDAR