BEGIN:VCALENDAR
VERSION:2.0
PRODID:-//time.now/holidays//NONSGML v1.0//EN
BEGIN:VEVENT
UID:74c3a38c-daf7-43b7-b769-abacdfda2b67
DTSTAMP:20260420T171614Z
DTSTART;VALUE=DATE:20261225
SUMMARY:Christmas Day (Finlande)
END:VEVENT
END:VCALENDAR