BEGIN:VCALENDAR
VERSION:2.0
PRODID:-//time.now/holidays//NONSGML v1.0//EN
BEGIN:VEVENT
UID:f44ed94c-c533-44dd-ab1d-848b62636523
DTSTAMP:20260420T023731Z
DTSTART;VALUE=DATE:20260403
SUMMARY:Good Friday (Fidji)
END:VEVENT
END:VCALENDAR