BEGIN:VCALENDAR
VERSION:2.0
PRODID:-//time.now/holidays//NONSGML v1.0//EN
BEGIN:VEVENT
UID:52e1eabe-78fe-4ad2-b5e1-c5c9eb97462a
DTSTAMP:20260420T064509Z
DTSTART;VALUE=DATE:20260511
SUMMARY:Girmit Day (Fidji)
END:VEVENT
END:VCALENDAR