BEGIN:VCALENDAR
VERSION:2.0
PRODID:-//time.now/holidays//NONSGML v1.0//EN
BEGIN:VEVENT
UID:acaa8595-9414-4d4f-b9a0-7a91d5c9a7f9
DTSTAMP:20260420T162611Z
DTSTART;VALUE=DATE:20271227
SUMMARY:Christmas Day (observed) (Fidji)
END:VEVENT
END:VCALENDAR