BEGIN:VCALENDAR
VERSION:2.0
PRODID:-//time.now/holidays//NONSGML v1.0//EN
BEGIN:VEVENT
UID:f35c616a-0472-4859-94a3-86243a5f8af9
DTSTAMP:20260420T105334Z
DTSTART;VALUE=DATE:20261228
SUMMARY:Boxing Day (observed) (Fidji)
END:VEVENT
END:VCALENDAR