BEGIN:VCALENDAR
VERSION:2.0
PRODID:-//time.now/holidays//NONSGML v1.0//EN
BEGIN:VEVENT
UID:eea38256-4787-44d8-87c6-6ac27a0b0fa5
DTSTAMP:20260420T200451Z
DTSTART;VALUE=DATE:20260825
SUMMARY:Prophet's Birthday (estimated) (Éthiopie)
END:VEVENT
END:VCALENDAR