BEGIN:VCALENDAR
VERSION:2.0
PRODID:-//time.now/holidays//NONSGML v1.0//EN
BEGIN:VEVENT
UID:d3bf4223-2639-4920-a8fe-c8e77dc31abf
DTSTAMP:20260422T134216Z
DTSTART;VALUE=DATE:20260320
SUMMARY:Eid al-Fitr (estimated) (Éthiopie)
END:VEVENT
END:VCALENDAR