BEGIN:VCALENDAR
VERSION:2.0
PRODID:-//time.now/holidays//NONSGML v1.0//EN
BEGIN:VEVENT
UID:3be13fe2-ee0a-4449-b2a1-4756f5dd610e
DTSTAMP:20260420T185625Z
DTSTART;VALUE=DATE:20260527
SUMMARY:Eid al-Adha (estimated) (Éthiopie)
END:VEVENT
END:VCALENDAR