BEGIN:VCALENDAR
VERSION:2.0
PRODID:-//time.now/holidays//NONSGML v1.0//EN
BEGIN:VEVENT
UID:92b5cb64-2ada-478e-8c2b-21aa979d4bdb
DTSTAMP:20260420T205007Z
DTSTART;VALUE=DATE:20260302
SUMMARY:Adwa Victory Day (Éthiopie)
END:VEVENT
END:VCALENDAR