BEGIN:VCALENDAR
VERSION:2.0
PRODID:-//time.now/holidays//NONSGML v1.0//EN
BEGIN:VEVENT
UID:c60d35e1-b3f2-4e18-9ea0-2d9ca49c9b72
DTSTAMP:20260420T031758Z
DTSTART;VALUE=DATE:20260501
SUMMARY:Worker's Day (Eswatini)
END:VEVENT
END:VCALENDAR