BEGIN:VCALENDAR
VERSION:2.0
PRODID:-//time.now/holidays//NONSGML v1.0//EN
BEGIN:VEVENT
UID:a1a7c97f-d7ff-4706-92ce-c8d95c0220f0
DTSTAMP:20260420T050903Z
DTSTART;VALUE=DATE:20330502
SUMMARY:Worker's Day (observed) (Eswatini)
END:VEVENT
END:VCALENDAR