BEGIN:VCALENDAR
VERSION:2.0
PRODID:-//time.now/holidays//NONSGML v1.0//EN
BEGIN:VEVENT
UID:f977f8eb-dbde-4463-85e6-fced3cc82c48
DTSTAMP:20260420T075859Z
DTSTART;VALUE=DATE:20261226
SUMMARY:Boxing Day (Eswatini)
END:VEVENT
END:VCALENDAR