BEGIN:VCALENDAR
VERSION:2.0
PRODID:-//time.now/holidays//NONSGML v1.0//EN
BEGIN:VEVENT
UID:aafd7195-44f9-4de0-8edb-9b8f11caea72
DTSTAMP:20260420T112236Z
DTSTART;VALUE=DATE:20260514
SUMMARY:Ascension Day (Eswatini)
END:VEVENT
END:VCALENDAR