BEGIN:VCALENDAR
VERSION:2.0
PRODID:-//time.now/holidays//NONSGML v1.0//EN
BEGIN:VEVENT
UID:4c3124f6-6f09-443d-a53d-df803cef2802
DTSTAMP:20260420T173901Z
DTSTART;VALUE=DATE:20260101
SUMMARY:New Year's Day (Estonie)
END:VEVENT
END:VCALENDAR