BEGIN:VCALENDAR
VERSION:2.0
PRODID:-//time.now/holidays//NONSGML v1.0//EN
BEGIN:VEVENT
UID:fd31e5c6-b654-4dfc-a68e-3a7538253e41
DTSTAMP:20260420T195657Z
DTSTART;VALUE=DATE:20260820
SUMMARY:Independence Restoration Day (Estonie)
END:VEVENT
END:VCALENDAR