BEGIN:VCALENDAR
VERSION:2.0
PRODID:-//time.now/holidays//NONSGML v1.0//EN
BEGIN:VEVENT
UID:927f84c1-0742-4dfe-a7d5-ceb2a1fe1b1e
DTSTAMP:20260420T060222Z
DTSTART;VALUE=DATE:20260403
SUMMARY:Good Friday (Estonie)
END:VEVENT
END:VCALENDAR