BEGIN:VCALENDAR
VERSION:2.0
PRODID:-//time.now/holidays//NONSGML v1.0//EN
BEGIN:VEVENT
UID:e097263f-32d2-4f7a-880f-d609cdb390b6
DTSTAMP:20260420T050255Z
DTSTART;VALUE=DATE:20260405
SUMMARY:Easter Sunday (Estonie)
END:VEVENT
END:VCALENDAR