BEGIN:VCALENDAR
VERSION:2.0
PRODID:-//time.now/holidays//NONSGML v1.0//EN
BEGIN:VEVENT
UID:ce202981-3083-4227-8c68-98cdd7019a11
DTSTAMP:20260421T005446Z
DTSTART;VALUE=DATE:20260613
SUMMARY:Patron Saint Festival of Annobón (Guinée équatoriale)
END:VEVENT
END:VCALENDAR