BEGIN:VCALENDAR
VERSION:2.0
PRODID:-//time.now/holidays//NONSGML v1.0//EN
BEGIN:VEVENT
UID:83ad64de-b583-4a0a-96c2-7afd20c47c10
DTSTAMP:20260420T033628Z
DTSTART;VALUE=DATE:20260403
SUMMARY:Good Friday (Guinée équatoriale)
END:VEVENT
END:VCALENDAR