BEGIN:VCALENDAR
VERSION:2.0
PRODID:-//time.now/holidays//NONSGML v1.0//EN
BEGIN:VEVENT
UID:86be2634-62a2-47b8-b6f1-018a622556b8
DTSTAMP:20260420T014749Z
DTSTART;VALUE=DATE:20260815
SUMMARY:Constitution Day (Guinée équatoriale)
END:VEVENT
END:VCALENDAR