BEGIN:VCALENDAR
VERSION:2.0
PRODID:-//time.now/holidays//NONSGML v1.0//EN
BEGIN:VEVENT
UID:482bf55b-2cf2-4463-b915-fdd1bc3658f7
DTSTAMP:20260420T125305Z
DTSTART;VALUE=DATE:20261225
SUMMARY:Christmas Day (Guinée équatoriale)
END:VEVENT
END:VCALENDAR