BEGIN:VCALENDAR
VERSION:2.0
PRODID:-//time.now/holidays//NONSGML v1.0//EN
BEGIN:VEVENT
UID:42c8985e-d1af-4d8e-b0c0-4ae90e89dfa1
DTSTAMP:20260420T024753Z
DTSTART;VALUE=DATE:20260803
SUMMARY:Armed Forces Day (Guinée équatoriale)
END:VEVENT
END:VCALENDAR