BEGIN:VCALENDAR
VERSION:2.0
PRODID:-//time.now/holidays//NONSGML v1.0//EN
BEGIN:VEVENT
UID:8b4b2a65-0482-4c90-b243-069ece4868da
DTSTAMP:20260420T202118Z
DTSTART;VALUE=DATE:20260525
SUMMARY:African Liberation Day (Guinée équatoriale)
END:VEVENT
END:VCALENDAR