BEGIN:VCALENDAR
VERSION:2.0
PRODID:-//time.now/holidays//NONSGML v1.0//EN
BEGIN:VEVENT
UID:9710f6ac-b783-43a2-90c9-e79b31b484e7
DTSTAMP:20260420T215307Z
DTSTART;VALUE=DATE:20240123
SUMMARY:AFCON Victory Against Ivory Coast (Guinée équatoriale)
END:VEVENT
END:VCALENDAR