BEGIN:VCALENDAR
VERSION:2.0
PRODID:-//time.now/holidays//NONSGML v1.0//EN
BEGIN:VEVENT
UID:2a61441b-5359-4975-8c43-8e631c7ec522
DTSTAMP:20260422T193206Z
DTSTART;VALUE=DATE:20260402
SUMMARY:Maundy Thursday (El Salvador)
END:VEVENT
END:VCALENDAR