BEGIN:VCALENDAR
VERSION:2.0
PRODID:-//time.now/holidays//NONSGML v1.0//EN
BEGIN:VEVENT
UID:4412243e-0247-4a6a-81d8-2a09a44c2535
DTSTAMP:20260420T195604Z
DTSTART;VALUE=DATE:20260915
SUMMARY:Independence Day (El Salvador)
END:VEVENT
END:VCALENDAR