BEGIN:VCALENDAR
VERSION:2.0
PRODID:-//time.now/holidays//NONSGML v1.0//EN
BEGIN:VEVENT
UID:b81a729f-ceed-4afb-943b-0755dd87ceff
DTSTAMP:20260420T184812Z
DTSTART;VALUE=DATE:20260403
SUMMARY:Good Friday (El Salvador)
END:VEVENT
END:VCALENDAR