BEGIN:VCALENDAR
VERSION:2.0
PRODID:-//time.now/holidays//NONSGML v1.0//EN
BEGIN:VEVENT
UID:9a1dbed1-22cb-4d5f-833d-d910f5ad50e9
DTSTAMP:20260422T151414Z
DTSTART;VALUE=DATE:20330425
SUMMARY:Sham El Nessim; Sinai Liberation Day (Égypte)
END:VEVENT
END:VCALENDAR