BEGIN:VCALENDAR
VERSION:2.0
PRODID:-//time.now/holidays//NONSGML v1.0//EN
BEGIN:VEVENT
UID:34f1c91f-3aae-4338-acb8-05f96103a87b
DTSTAMP:20260420T095722Z
DTSTART;VALUE=DATE:20260501
SUMMARY:Labor Day (Égypte)
END:VEVENT
END:VCALENDAR