BEGIN:VCALENDAR
VERSION:2.0
PRODID:-//time.now/holidays//NONSGML v1.0//EN
BEGIN:VEVENT
UID:791625fb-0857-4195-953a-b7fe3b4b5297
DTSTAMP:20260420T134926Z
DTSTART;VALUE=DATE:20261102
SUMMARY:All Souls' Day (Équateur)
END:VEVENT
END:VCALENDAR