BEGIN:VCALENDAR
VERSION:2.0
PRODID:-//time.now/holidays//NONSGML v1.0//EN
BEGIN:VEVENT
UID:1265927e-aded-4125-95e9-6a6beb626d0c
DTSTAMP:20260420T173504Z
DTSTART;VALUE=DATE:20271101
SUMMARY:All Souls' Day (observed) (Équateur)
END:VEVENT
END:VCALENDAR