BEGIN:VCALENDAR
VERSION:2.0
PRODID:-//time.now/holidays//NONSGML v1.0//EN
BEGIN:VEVENT
UID:c536b54d-d5df-4330-bdbc-474c0c0b23b1
DTSTAMP:20260420T172234Z
DTSTART;VALUE=DATE:20260403
SUMMARY:Good Friday (République dominicaine)
END:VEVENT
END:VCALENDAR