BEGIN:VCALENDAR
VERSION:2.0
PRODID:-//time.now/holidays//NONSGML v1.0//EN
BEGIN:VEVENT
UID:5491cb51-d28b-439a-832f-8b7718e5b0b1
DTSTAMP:20260420T210143Z
DTSTART;VALUE=DATE:20260604
SUMMARY:Corpus Christi (République dominicaine)
END:VEVENT
END:VCALENDAR