BEGIN:VCALENDAR
VERSION:2.0
PRODID:-//time.now/holidays//NONSGML v1.0//EN
BEGIN:VEVENT
UID:6246f79a-2ad5-41ac-bced-3b20dd8779a1
DTSTAMP:20260420T151614Z
DTSTART;VALUE=DATE:20261109
SUMMARY:Constitution Day (République dominicaine)
END:VEVENT
END:VCALENDAR