BEGIN:VCALENDAR
VERSION:2.0
PRODID:-//time.now/holidays//NONSGML v1.0//EN
BEGIN:VEVENT
UID:20c70519-c74b-42ae-bfca-9d522785e090
DTSTAMP:20260420T204814Z
DTSTART;VALUE=DATE:20260101
SUMMARY:New Year's Day (Dominique)
END:VEVENT
END:VCALENDAR