BEGIN:VCALENDAR
VERSION:2.0
PRODID:-//time.now/holidays//NONSGML v1.0//EN
BEGIN:VEVENT
UID:fe037da6-c0d7-428c-afa5-e9fe66554fdc
DTSTAMP:20260420T170221Z
DTSTART;VALUE=DATE:20261226
SUMMARY:Boxing Day (Dominique)
END:VEVENT
END:VCALENDAR