BEGIN:VCALENDAR
VERSION:2.0
PRODID:-//time.now/holidays//NONSGML v1.0//EN
BEGIN:VEVENT
UID:6354573a-3952-497a-922d-c045d0d97225
DTSTAMP:20260422T090608Z
DTSTART;VALUE=DATE:20260116
SUMMARY:Isra' and Mi'raj (estimated) (Djibouti)
END:VEVENT
END:VCALENDAR