BEGIN:VCALENDAR
VERSION:2.0
PRODID:-//time.now/holidays//NONSGML v1.0//EN
BEGIN:VEVENT
UID:ad7f3a94-0134-4a73-a84c-04fe9a87d0be
DTSTAMP:20260420T230908Z
DTSTART;VALUE=DATE:20260321
SUMMARY:Eid al-Fitr Holiday (estimated) (Djibouti)
END:VEVENT
END:VCALENDAR