BEGIN:VCALENDAR
VERSION:2.0
PRODID:-//time.now/holidays//NONSGML v1.0//EN
BEGIN:VEVENT
UID:124ccc77-8e48-42e1-a084-f47b3dce622b
DTSTAMP:20260422T103909Z
DTSTART;VALUE=DATE:20271225
SUMMARY:Christmas Day; Isra' and Mi'raj (estimated) (Djibouti)
END:VEVENT
END:VCALENDAR