BEGIN:VCALENDAR
VERSION:2.0
PRODID:-//time.now/holidays//NONSGML v1.0//EN
BEGIN:VEVENT
UID:ffca1943-bcea-419a-bd6a-ac1a9c3d0c4a
DTSTAMP:20260420T031326Z
DTSTART;VALUE=DATE:20260524
SUMMARY:Whit Sunday (Danemark)
END:VEVENT
END:VCALENDAR