BEGIN:VCALENDAR
VERSION:2.0
PRODID:-//time.now/holidays//NONSGML v1.0//EN
BEGIN:VEVENT
UID:d80ced31-00a2-4561-bfe8-c41d6f4a1075
DTSTAMP:20260419T204442Z
DTSTART;VALUE=DATE:20260403
SUMMARY:Good Friday (Danemark)
END:VEVENT
END:VCALENDAR