BEGIN:VCALENDAR
VERSION:2.0
PRODID:-//time.now/holidays//NONSGML v1.0//EN
BEGIN:VEVENT
UID:59574c55-4622-49ae-b2c4-87098b648317
DTSTAMP:20260419T170724Z
DTSTART;VALUE=DATE:20260406
SUMMARY:Easter Monday (Danemark)
END:VEVENT
END:VCALENDAR