BEGIN:VCALENDAR
VERSION:2.0
PRODID:-//time.now/holidays//NONSGML v1.0//EN
BEGIN:VEVENT
UID:e8bac83c-f785-4fc4-a15a-e806f82ad6fd
DTSTAMP:20260420T054709Z
DTSTART;VALUE=DATE:20260403
SUMMARY:Good Friday (République tchèque)
END:VEVENT
END:VCALENDAR