BEGIN:VCALENDAR
VERSION:2.0
PRODID:-//time.now/holidays//NONSGML v1.0//EN
BEGIN:VEVENT
UID:357a2abf-16f1-4ba1-b7e9-3b8ab4be8964
DTSTAMP:20260420T122503Z
DTSTART;VALUE=DATE:20261226
SUMMARY:Day After Christmas (Chypre)
END:VEVENT
END:VCALENDAR