BEGIN:VCALENDAR
VERSION:2.0
PRODID:-//time.now/holidays//NONSGML v1.0//EN
BEGIN:VEVENT
UID:545e27a6-d627-4fb5-972c-fe486eff8c7a
DTSTAMP:20260420T075038Z
DTSTART;VALUE=DATE:20261001
SUMMARY:Cyprus Independence Day (Chypre)
END:VEVENT
END:VCALENDAR