BEGIN:VCALENDAR
VERSION:2.0
PRODID:-//time.now/holidays//NONSGML v1.0//EN
BEGIN:VEVENT
UID:23f8bf30-1f66-4059-85b8-06181f698017
DTSTAMP:20260422T083751Z
DTSTART;VALUE=DATE:20261226
SUMMARY:Second Day of Christmas (Curaçao)
END:VEVENT
END:VCALENDAR