BEGIN:VCALENDAR
VERSION:2.0
PRODID:-//time.now/holidays//NONSGML v1.0//EN
BEGIN:VEVENT
UID:1ad88ffe-398b-4ea1-96ed-3b296e5bf18d
DTSTAMP:20260420T070306Z
DTSTART;VALUE=DATE:20260405
SUMMARY:Easter Sunday (Curaçao)
END:VEVENT
END:VCALENDAR