BEGIN:VCALENDAR
VERSION:2.0
PRODID:-//time.now/holidays//NONSGML v1.0//EN
BEGIN:VEVENT
UID:811a57f0-f832-4ddc-a39d-42bc941b1555
DTSTAMP:20260420T213226Z
DTSTART;VALUE=DATE:20261010
SUMMARY:Curaçao Day (Curaçao)
END:VEVENT
END:VCALENDAR