BEGIN:VCALENDAR
VERSION:2.0
PRODID:-//time.now/holidays//NONSGML v1.0//EN
BEGIN:VEVENT
UID:df93635c-cd18-4a73-ba78-97406aaaaefd
DTSTAMP:20260420T140917Z
DTSTART;VALUE=DATE:20261231
SUMMARY:New Year's Eve (Cuba)
END:VEVENT
END:VCALENDAR